BEGIN:VCALENDAR
VERSION:2.0
PRODID:-//Esperanza Cyber Charter School - ECPv6.15.19//NONSGML v1.0//EN
CALSCALE:GREGORIAN
METHOD:PUBLISH
X-ORIGINAL-URL:https://www.esperanzacyber.org
X-WR-CALDESC:Events for Esperanza Cyber Charter School
REFRESH-INTERVAL;VALUE=DURATION:PT1H
X-Robots-Tag:noindex
X-PUBLISHED-TTL:PT1H
BEGIN:VTIMEZONE
TZID:America/New_York
BEGIN:DAYLIGHT
TZOFFSETFROM:-0500
TZOFFSETTO:-0400
TZNAME:EDT
DTSTART:20240310T070000
END:DAYLIGHT
BEGIN:STANDARD
TZOFFSETFROM:-0400
TZOFFSETTO:-0500
TZNAME:EST
DTSTART:20241103T060000
END:STANDARD
BEGIN:DAYLIGHT
TZOFFSETFROM:-0500
TZOFFSETTO:-0400
TZNAME:EDT
DTSTART:20250309T070000
END:DAYLIGHT
BEGIN:STANDARD
TZOFFSETFROM:-0400
TZOFFSETTO:-0500
TZNAME:EST
DTSTART:20251102T060000
END:STANDARD
BEGIN:DAYLIGHT
TZOFFSETFROM:-0500
TZOFFSETTO:-0400
TZNAME:EDT
DTSTART:20260308T070000
END:DAYLIGHT
BEGIN:STANDARD
TZOFFSETFROM:-0400
TZOFFSETTO:-0500
TZNAME:EST
DTSTART:20261101T060000
END:STANDARD
END:VTIMEZONE
BEGIN:VEVENT
DTSTART;VALUE=DATE:20250606
DTEND;VALUE=DATE:20250607
DTSTAMP:20260422T110828
CREATED:20240722T174042Z
LAST-MODIFIED:20240722T174158Z
UID:9076-1749168000-1749254399@www.esperanzacyber.org
SUMMARY:Early Dismissal for Students - Last Day for Students
DESCRIPTION:
URL:https://www.esperanzacyber.org/events/early-dismissal-for-students-last-day-for-students/
END:VEVENT
BEGIN:VEVENT
DTSTART;VALUE=DATE:20250606
DTEND;VALUE=DATE:20250607
DTSTAMP:20260422T110828
CREATED:20240722T174246Z
LAST-MODIFIED:20240722T174246Z
UID:9077-1749168000-1749254399@www.esperanzacyber.org
SUMMARY:8th Grade Moving Up Ceremony
DESCRIPTION:
URL:https://www.esperanzacyber.org/events/8th-grade-moving-up-ceremony/
END:VEVENT
BEGIN:VEVENT
DTSTART;VALUE=DATE:20250609
DTEND;VALUE=DATE:20250610
DTSTAMP:20260422T110828
CREATED:20240722T173932Z
LAST-MODIFIED:20240722T173932Z
UID:9075-1749427200-1749513599@www.esperanzacyber.org
SUMMARY:Kindergarten Moving Up Ceremony
DESCRIPTION:
URL:https://www.esperanzacyber.org/events/kindergarten-moving-up-ceremony/
END:VEVENT
BEGIN:VEVENT
DTSTART;VALUE=DATE:20250611
DTEND;VALUE=DATE:20250612
DTSTAMP:20260422T110828
CREATED:20240722T174316Z
LAST-MODIFIED:20240722T174316Z
UID:9078-1749600000-1749686399@www.esperanzacyber.org
SUMMARY:Last Day for Teachers
DESCRIPTION:
URL:https://www.esperanzacyber.org/events/last-day-for-teachers-3/
END:VEVENT
BEGIN:VEVENT
DTSTART;VALUE=DATE:20250612
DTEND;VALUE=DATE:20250613
DTSTAMP:20260422T110828
CREATED:20240722T174410Z
LAST-MODIFIED:20250226T201532Z
UID:9079-1749686400-1749772799@www.esperanzacyber.org
SUMMARY:Board of Trustees Meeting (3:30 PM) - If needed
DESCRIPTION:
URL:https://www.esperanzacyber.org/events/board-of-trustees-meeting-330-pm-6/
END:VEVENT
END:VCALENDAR